BEGIN:VCALENDAR
VERSION:2.0
PRODID:-//Montessori Academy of Glen Ellyn - ECPv6.15.20//NONSGML v1.0//EN
CALSCALE:GREGORIAN
METHOD:PUBLISH
X-WR-CALNAME:Montessori Academy of Glen Ellyn
X-ORIGINAL-URL:https://www.mymage.org
X-WR-CALDESC:Events for Montessori Academy of Glen Ellyn
REFRESH-INTERVAL;VALUE=DURATION:PT1H
X-Robots-Tag:noindex
X-PUBLISHED-TTL:PT1H
BEGIN:VTIMEZONE
TZID:UTC
BEGIN:STANDARD
TZOFFSETFROM:+0000
TZOFFSETTO:+0000
TZNAME:UTC
DTSTART:20240101T000000
END:STANDARD
END:VTIMEZONE
BEGIN:VEVENT
DTSTART;TZID=UTC:20251031T090000
DTEND;TZID=UTC:20251031T113000
DTSTAMP:20260425T170512
CREATED:20251006T210244Z
LAST-MODIFIED:20251006T210244Z
UID:14431-1761901200-1761910200@www.mymage.org
SUMMARY:Innternational Fair
DESCRIPTION:Come experience cultures from around the world.  See our students’ and families’ favorite cultures as they present their origin ethnicity in the elementary classroom.
URL:https://www.mymage.org/event/innternational-fair/
LOCATION:Montessori Academy of Glen Ellyn\, 927 N Main St\, Glen Ellyn\, IL\, 60137\, United States
CATEGORIES:Main Calendar
ORGANIZER;CN="Montessori Academy of Glen Ellyn":MAILTO:grow@mymage.org
END:VEVENT
END:VCALENDAR